BEGIN:VCALENDAR
PRODID:-//eluceo/ical//2.0/EN
VERSION:2.0
CALSCALE:GREGORIAN
BEGIN:VEVENT
UID:535dc785de0357dd3d89535e2b20db46
DTSTAMP:20260420T121624Z
SUMMARY:Beth Shalom Synagogue: Shabbat Evening Services
DESCRIPTION:Columbia Jewish Federation\nCommunity Calendar\nhttps://jewishc
 olumbia.org/community-calendar/Event148\n\nShabbat Evening Services
DTSTART;TZID=America/New_York:20150626T183000
DTEND;TZID=America/New_York:20150626T190000
END:VEVENT
END:VCALENDAR
