BEGIN:VCALENDAR
PRODID:-//eluceo/ical//2.0/EN
VERSION:2.0
CALSCALE:GREGORIAN
BEGIN:VEVENT
UID:9f48d39ad01f1e0cb7fc88f9f26a7c93
DTSTAMP:20260419T180535Z
SUMMARY:Beth Shalom Synagogue: Shabbat Evening Services
DESCRIPTION:Columbia Jewish Federation\nCommunity Calendar\nhttps://jewishc
 olumbia.org/community-calendar/Event134\n\nShabbat Evening Services
DTSTART;TZID=America/New_York:20150522T183000
DTEND;TZID=America/New_York:20150522T190000
END:VEVENT
END:VCALENDAR
