BEGIN:VCALENDAR
PRODID:-//eluceo/ical//2.0/EN
VERSION:2.0
CALSCALE:GREGORIAN
BEGIN:VEVENT
UID:857cca69b0d26c8f91c472a5f1d0483f
DTSTAMP:20260426T022717Z
SUMMARY:Beth Shalom Synagogue: Shabbat Morning Services
DESCRIPTION:Columbia Jewish Federation\nCommunity Calendar\nhttps://jewishc
 olumbia.org/community-calendar/Event120\n\nShabbat Morning Services. Kiddu
 sh luncheon following services. Talmud study with Rabbi Case in the librar
 y following Kiddush.
DTSTART;TZID=America/New_York:20150404T094500
DTEND;TZID=America/New_York:20150404T101500
END:VEVENT
END:VCALENDAR
