BEGIN:VCALENDAR
PRODID:-//eluceo/ical//2.0/EN
VERSION:2.0
CALSCALE:GREGORIAN
BEGIN:VEVENT
UID:54de7d4fa34db7ac22b6db5fbe0d931b
DTSTAMP:20260426T022727Z
SUMMARY:Beth Shalom Synagogue: Shabbat Morning Services
DESCRIPTION:Columbia Jewish Federation\nCommunity Calendar\nhttps://jewishc
 olumbia.org/community-calendar/Event118\n\nShabbat Morning Services. Kiddu
 sh luncheon following services. Talmud study with Rabbi Case in the librar
 y following Kiddush.
DTSTART;TZID=America/New_York:20150328T094500
DTEND;TZID=America/New_York:20150328T101500
END:VEVENT
END:VCALENDAR
