BEGIN:VCALENDAR
PRODID:-//eluceo/ical//2.0/EN
VERSION:2.0
CALSCALE:GREGORIAN
BEGIN:VEVENT
UID:f7a1c231c872a2a364b2e4180d396ffa
DTSTAMP:20260421T172207Z
SUMMARY:Beth Shalom Synagogue: Shabbat Morning Services
DESCRIPTION:Columbia Jewish Federation\nCommunity Calendar\nhttps://jewishc
 olumbia.org/community-calendar/Event114\n\nShabbat Morning Services. Kiddu
 sh luncheon following services. Talmud study with Rabbi Case in the librar
 y following Kiddush.
DTSTART;TZID=America/New_York:20150314T094500
DTEND;TZID=America/New_York:20150314T101500
END:VEVENT
END:VCALENDAR
