BEGIN:VCALENDAR
PRODID:-//eluceo/ical//2.0/EN
VERSION:2.0
CALSCALE:GREGORIAN
BEGIN:VEVENT
UID:567e4f5cf6242b87316e748d9792cc20
DTSTAMP:20260422T124651Z
SUMMARY:Beth Shalom Synagogue: Abigail Kahn Bat Mitzvah
DESCRIPTION:Columbia Jewish Federation\nCommunity Calendar\nhttps://jewishc
 olumbia.org/community-calendar/Event112\n\nAbigail Kahn Bat Mitzvah.
DTSTART;TZID=America/New_York:20150313T183000
DTEND;TZID=America/New_York:20150313T190000
END:VEVENT
END:VCALENDAR
