BEGIN:VCALENDAR
PRODID:-//eluceo/ical//2.0/EN
VERSION:2.0
CALSCALE:GREGORIAN
BEGIN:VEVENT
UID:a359aab6d2c553c774057909315db010
DTSTAMP:20260420T033801Z
SUMMARY:The Leadership Lounge- the Brain Revolutions: Innovations in Neuros
 urgery
DESCRIPTION:Columbia Jewish Federation\nColumbia Jewish Federation\nhttps:/
 /jewishcolumbia.org/columbia-jewish-federation/the-leadership-lounge-the-b
 rain-revolutions-innovations-in-neurosurgery-504190\n\nSeries II | The
  Brain Revolutions: Innovations in Neurosurgery\n\nInnovating Withou
 t Incisions: An Evening with INSIGHTEC\n\nJoin us for an inspirin
 g evening exploring how Israeli innovation is transforming the fu
 ture of medicine. Representatives from INSIGHTEC\, a global leader
  in non-invasive medical technology\, will share how their ground
 breaking Exablate® platform uses focused ultrasound and MR-guided
  precision to treat neurological ...
DTSTART;TZID=America/New_York:20251211T180000
DTEND;TZID=America/New_York:20251211T193000
END:VEVENT
END:VCALENDAR
