BEGIN:VCALENDAR
PRODID:-//eluceo/ical//2.0/EN
VERSION:2.0
CALSCALE:GREGORIAN
BEGIN:VEVENT
UID:a8729cee332cde172838b95125598973
DTSTAMP:20260423T161106Z
SUMMARY:Kugels and Collards Cookbook Event
DESCRIPTION:Columbia Jewish Federation\nColumbia Jewish Federation\nhttps:/
 /jewishcolumbia.org/columbia-jewish-federation/kugels-and-collards-cookboo
 k-event-504444\n\nLocation: Beth Shalom Synangogue\n\n5827 N Trenholm Rd\,
  Columbia\, SC 29206
DTSTART;TZID=America/New_York:20260426T110000
DTEND;TZID=America/New_York:20260426T130000
END:VEVENT
END:VCALENDAR
