BEGIN:VCALENDAR
PRODID:-//eluceo/ical//2.0/EN
VERSION:2.0
CALSCALE:GREGORIAN
BEGIN:VEVENT
UID:8bb28f828f3698706f38d0af60816d42
DTSTAMP:20260420T052834Z
SUMMARY:CJF & JCC: Board of Directors Meeting
DESCRIPTION:Columbia Jewish Federation\nColumbia Jewish Federation\nhttps:/
 /jewishcolumbia.org/columbia-jewish-federation/cjf--jcc-board-of-directors
 -meeting\n\nCJF & JCC: Joint BOD Mtg
DTSTART;TZID=America/New_York:20130610T190000
DTEND;TZID=America/New_York:20130610T210000
END:VEVENT
END:VCALENDAR
