BEGIN:VCALENDAR
PRODID:-//eluceo/ical//2.0/EN
VERSION:2.0
CALSCALE:GREGORIAN
BEGIN:VEVENT
UID:67e7b6af0bea7dc4a53699ba7e279370
DTSTAMP:20260422T102840Z
SUMMARY:BSS Religious School Erev Chanukah
DESCRIPTION:Columbia Jewish Federation\nColumbia Jewish Federation\nhttps:/
 /jewishcolumbia.org/columbia-jewish-federation/bss-religious-school-erev-c
 hanuka-504538\n\nChanukah candle lighting\, games\, crafts\, music\, and a
  joyous Chanukah skit\, cookie decorating and more.\n\nLatke and hot dog l
 unch.\n\nReligious school begins at 9:30AM. We will dismiss as usual at 12
 :30PM.
DTSTART;TZID=America/New_York:20251214T093000
DTEND;TZID=America/New_York:20251214T123000
END:VEVENT
END:VCALENDAR
