BEGIN:VCALENDAR
PRODID:-//eluceo/ical//2.0/EN
VERSION:2.0
CALSCALE:GREGORIAN
BEGIN:VEVENT
UID:31cb44bb9e468c035d079b425af2ffad
DTSTAMP:20260425T233308Z
SUMMARY:Sukkah Party 
DESCRIPTION:Columbia Jewish Federation\nColumbia Community Events\nhttps://
 jewishcolumbia.org/columbia-community-events/sukkah-party-6864\n\nSukkah P
 arty 
DTSTART;TZID=America/New_York:20130922T170000
DTEND;TZID=America/New_York:20130922T173000
END:VEVENT
END:VCALENDAR
