BEGIN:VCALENDAR
PRODID:-//eluceo/ical//2.0/EN
VERSION:2.0
CALSCALE:GREGORIAN
BEGIN:VEVENT
UID:6860fdeff01a5359191840b42b5c8d08
DTSTAMP:20260421T103513Z
SUMMARY:Menorah Partade\, Lighting & Concert
DESCRIPTION:Columbia Jewish Federation\nColumbia Community Events\nhttps://
 jewishcolumbia.org/columbia-community-events/menorah-partade-lighting--con
 cert-6789\n\nMenorah Lighting & Concert
DTSTART;TZID=America/New_York:20131201T150000
DTEND;TZID=America/New_York:20131201T153000
END:VEVENT
END:VCALENDAR
