BEGIN:VCALENDAR
PRODID:-//eluceo/ical//2.0/EN
VERSION:2.0
CALSCALE:GREGORIAN
BEGIN:VEVENT
UID:277979cc2f3913733022026bd47224fd
DTSTAMP:20260425T173356Z
SUMMARY:Mah Jongg Tournament
DESCRIPTION:Columbia Jewish Federation\nColumbia Community Events\nhttps://
 jewishcolumbia.org/columbia-community-events/mah-jongg-tournament-6871\n\n
 Mah Jongg Tournament
DTSTART;TZID=America/New_York:20131208T093000
DTEND;TZID=America/New_York:20131208T150000
END:VEVENT
END:VCALENDAR
