BEGIN:VCALENDAR
PRODID:-//eluceo/ical//2.0/EN
VERSION:2.0
CALSCALE:GREGORIAN
BEGIN:VEVENT
UID:bae4a4065dbb7146b90063114ca2b7dc
DTSTAMP:20260425T173401Z
SUMMARY:JLC Speaker: Shahar Azani
DESCRIPTION:Columbia Jewish Federation\nColumbia Community Events\nhttps://
 jewishcolumbia.org/columbia-community-events/jlc-speaker-shahar-azani-6880
 \n\nJLC Speaker: Shahar Azani
DTSTART;TZID=America/New_York:20140109T190000
DTEND;TZID=America/New_York:20140109T203000
END:VEVENT
END:VCALENDAR
