BEGIN:VCALENDAR
PRODID:-//eluceo/ical//2.0/EN
VERSION:2.0
CALSCALE:GREGORIAN
BEGIN:VEVENT
UID:939dc3edeef13ed8ddd45d1363f27e94
DTSTAMP:20260424T051330Z
SUMMARY:Car Menorah Parade & State House Menorah Lighting
DESCRIPTION:Columbia Jewish Federation\nColumbia Community Events\nhttps://
 jewishcolumbia.org/columbia-community-events/car-menorah-parade--state-hou
 se-menorah-lighting-6863\n\nCar Parade & Menorah Lighting
DTSTART;TZID=America/New_York:20131127T150000
DTEND;TZID=America/New_York:20131127T183000
END:VEVENT
END:VCALENDAR
