BEGIN:VCALENDAR
PRODID:-//eluceo/ical//2.0/EN
VERSION:2.0
CALSCALE:GREGORIAN
BEGIN:VEVENT
UID:73d5bfc2811ce0f5e71786691e35e1b2
DTSTAMP:20260420T120427Z
SUMMARY:Beth Shalom Synagogue: Community Passover Seder
DESCRIPTION:Columbia Jewish Federation\nColumbia Community Events\nhttps://
 jewishcolumbia.org/columbia-community-events/beth-shalom-synagogue-communi
 ty-passover-seder\n\nBSS: Community Passover Seder
DTSTART;TZID=America/New_York:20130325T190000
DTEND;TZID=America/New_York:20130325T193000
END:VEVENT
END:VCALENDAR
