BEGIN:VCALENDAR
PRODID:-//eluceo/ical//2.0/EN
VERSION:2.0
CALSCALE:GREGORIAN
BEGIN:VEVENT
UID:8113d7c6bb5779c62c22ec5d3db8ce50
DTSTAMP:20260424T215722Z
SUMMARY:Chabad of SC 25th Anniversary
DESCRIPTION:Columbia Jewish Federation\nChabad\nhttps://jewishcolumbia.org/
 chabad/chabad-of-sc-25th-anniversary\n\nChabad of SC 25th Anniversary
DTSTART;TZID=America/New_York:20131023T180000
DTEND;TZID=America/New_York:20131023T183000
END:VEVENT
END:VCALENDAR
